BEGIN:VCALENDAR
VERSION:2.0
PRODID:icalendar-ruby
CALSCALE:GREGORIAN
METHOD:PUBLISH
BEGIN:VEVENT
DTSTAMP:20260423T105235Z
UID:393f19a4-df51-4aa1-8f46-5339851d9ff8
DTSTART:20260505T123000
DTEND:20260505T133000
LOCATION:Large Seminar Room 8G U1 155
SUMMARY:CSD Noon Seminar 
END:VEVENT
END:VCALENDAR
